BEGIN:VCALENDAR
VERSION:2.0
PRODID:-//ACAN - ECPv4.7.3//NONSGML v1.0//EN
CALSCALE:GREGORIAN
METHOD:PUBLISH
X-WR-CALNAME:ACAN
X-ORIGINAL-URL:http://acan.com.au
X-WR-CALDESC:Events for ACAN
BEGIN:VEVENT
DTSTART;TZID=UTC+0:20190224T140000
DTEND;TZID=UTC+0:20190226T133000
DTSTAMP:20190227T234222
CREATED:20190117T234148Z
LAST-MODIFIED:20190121T223340Z
UID:581-1551016800-1551187800@acan.com.au
SUMMARY:LASA Tri-State Conference and Exhibition
DESCRIPTION:Leading Age Services Australia (LASA) is proud to host the 2019 Tri-State Conference and Exhibition which will bring together over 300 age service professionals\, leaders and specialists from across metropolitan and regional Victoria\, South Australia and regional New South Wales. \n
URL:http://acan.com.au/event/lasa-tri-state-conference-and-exhibition/
LOCATION:Albury Entertainment Centre\, 525 Swift St\, Albury\, NSW\, Australia
END:VEVENT
END:VCALENDAR