BEGIN:VCALENDAR
VERSION:2.0
PRODID:-//ACAN - ECPv4.7.3//NONSGML v1.0//EN
CALSCALE:GREGORIAN
METHOD:PUBLISH
X-WR-CALNAME:ACAN
X-ORIGINAL-URL:http://acan.com.au
X-WR-CALDESC:Events for ACAN
BEGIN:VEVENT
DTSTART;VALUE=DATE:20181121
DTEND;VALUE=DATE:20181124
DTSTAMP:20190227T234738
CREATED:20180911T033541Z
LAST-MODIFIED:20180911T033541Z
UID:475-1542758400-1543017599@acan.com.au
SUMMARY:Australian Association of Gerontology conference
DESCRIPTION:AAG looks forward to welcoming delegates to connect research\, policy and practice to improve the experience of ageing. Themes this year centre around health and medical; service delivery and workforce; policy\, advocacy and planning; social engagement and wellness and environment\, design\, innovation and technology. \n
URL:http://acan.com.au/event/australian-association-of-gerontology-conference/
LOCATION:Melbourne Convention and Exhibition Centre (MCEC)\, 1 Convention Centre Place\, Melbourne\, Victoria\, Australia
END:VEVENT
END:VCALENDAR