BEGIN:VCALENDAR
VERSION:2.0
PRODID:-//ACAN - ECPv4.7.3//NONSGML v1.0//EN
CALSCALE:GREGORIAN
METHOD:PUBLISH
X-WR-CALNAME:ACAN
X-ORIGINAL-URL:http://acan.com.au
X-WR-CALDESC:Events for ACAN
BEGIN:VEVENT
DTSTART;VALUE=DATE:20181111
DTEND;VALUE=DATE:20181115
DTSTAMP:20190227T235116
CREATED:20180911T023826Z
LAST-MODIFIED:20180911T023826Z
UID:468-1541894400-1542239999@acan.com.au
SUMMARY:International Conference on Frontotemporal Dementias
DESCRIPTION:Demonstrating and discussing research on frontotemporal dementia and other related conditions. \n
URL:http://acan.com.au/event/international-conference-on-frontotemporal-dementias/
LOCATION:International Convention Centre Sydney\, 14 Darling Dr\, Sydney\, New South Wales\, 2203
END:VEVENT
END:VCALENDAR