BEGIN:VCALENDAR
VERSION:2.0
PRODID:-//ACAN - ECPv4.7.3//NONSGML v1.0//EN
CALSCALE:GREGORIAN
METHOD:PUBLISH
X-WR-CALNAME:ACAN
X-ORIGINAL-URL:http://acan.com.au
X-WR-CALDESC:Events for ACAN
BEGIN:VEVENT
DTSTART;VALUE=DATE:20181028
DTEND;VALUE=DATE:20181031
DTSTAMP:20190227T235915
CREATED:20180911T022057Z
LAST-MODIFIED:20180911T022057Z
UID:465-1540684800-1540943999@acan.com.au
SUMMARY:LASA National Congress
DESCRIPTION:The LASA National Congress is Australia’s largest aged care service industry event\, transforming the conversation around ageing with discussions that will focus on practices and models for the generations to come. Find out more: https://lasacongress.asn.au/ \n
URL:http://acan.com.au/event/lasa-national-congress/
LOCATION:Riverbank Precinct\, Adelaide Convention Centre\, North Terrace\, Adelaide\, South Australia\, 5000\, Australia
END:VEVENT
END:VCALENDAR