BEGIN:VCALENDAR
VERSION:2.0
PRODID:-//ACAN - ECPv4.7.3//NONSGML v1.0//EN
CALSCALE:GREGORIAN
METHOD:PUBLISH
X-WR-CALNAME:ACAN
X-ORIGINAL-URL:http://acan.com.au
X-WR-CALDESC:Events for ACAN
BEGIN:VEVENT
DTSTART;TZID=UTC+0:20190313T083000
DTEND;TZID=UTC+0:20190315T190000
DTSTAMP:20190227T233747
CREATED:20190117T232421Z
LAST-MODIFIED:20190117T232421Z
UID:578-1552465800-1552676400@acan.com.au
SUMMARY:QLD State Conference
DESCRIPTION:Transition to the new Aged Care Quality Standards has begun\, and with a strong voice and helping hand\, Leading Age Services (LASA) commits to assisting you to create innov8tive quality age services that meet the new standards and the needs of your clients and organisations. \nMoving away from the traditional problem-centric approach to addressing change\, LASA’s 2019 State Conferences offer the perfect platform from which providers can explore the development of solution-focused and action-oriented outcomes in time to meet the introduction of the new Standards in July 2019. \n
URL:http://acan.com.au/event/qld-state-conference/
LOCATION:The Star\, Queensland
END:VEVENT
END:VCALENDAR