BEGIN:VCALENDAR
VERSION:2.0
PRODID:-//ACAN - ECPv4.7.3//NONSGML v1.0//EN
CALSCALE:GREGORIAN
METHOD:PUBLISH
X-WR-CALNAME:ACAN
X-ORIGINAL-URL:http://acan.com.au
X-WR-CALDESC:Events for ACAN
BEGIN:VEVENT
DTSTART;TZID=UTC+0:20190506T090000
DTEND;TZID=UTC+0:20190508T160000
DTSTAMP:20190227T233820
CREATED:20190118T000306Z
LAST-MODIFIED:20190118T000306Z
UID:592-1557133200-1557331200@acan.com.au
SUMMARY:NSW State Conference
DESCRIPTION:Leading Age Services Australia (LASA) is proud to host the 2019 NSW/ACT State Conference and Exhibition which will bring together over 300 age service professionals\, leaders and specialists from across metropolitan and regional New South Wales. Taking place from Monday 6 May- Tuesday 8 May 2019 at the Hilton Hotel\, Sydney\, the conference is a great opportunity for delegates from the residential care\, community care\, retirement living sectors and suppliers to exchange ideas and learn about new products and services that will enhance the operation of their businesses. \n
URL:http://acan.com.au/event/nsw-state-conference/
LOCATION:Hilton Hotel\, Sydney CBD\, Sydney\, NSW\, Australia
END:VEVENT
END:VCALENDAR