BEGIN:VCALENDAR
VERSION:2.0
PRODID:-//ACAN - ECPv4.7.3//NONSGML v1.0//EN
CALSCALE:GREGORIAN
METHOD:PUBLISH
X-WR-CALNAME:ACAN
X-ORIGINAL-URL:http://acan.com.au
X-WR-CALDESC:Events for ACAN
BEGIN:VEVENT
DTSTART;TZID=UTC+0:20191027T080000
DTEND;TZID=UTC+0:20191029T170000
DTSTAMP:20190227T233854
CREATED:20190117T235556Z
LAST-MODIFIED:20190121T224704Z
UID:589-1572163200-1572368400@acan.com.au
SUMMARY:LASA Excellence in Age Services Awards 2019
DESCRIPTION:The LASA Excellence in Age Services Awards recognise the outstanding achievements of the age services industry. Nominations are now open and LASA Members are urged to get their entries in. The LASA Excellence in Age Services Awards Aims to promote and recognise excellence across the diverse and dynamic fields of endeavour in age services industry. \n
URL:http://acan.com.au/event/lasa-excellence-in-age-services-awards-2019/
LOCATION:LASA National Congress\, Adelaide
END:VEVENT
END:VCALENDAR