BEGIN:VCALENDAR
VERSION:2.0
PRODID:-//ACAN - ECPv4.7.3//NONSGML v1.0//EN
CALSCALE:GREGORIAN
METHOD:PUBLISH
X-WR-CALNAME:ACAN
X-ORIGINAL-URL:http://acan.com.au
X-WR-CALDESC:Events for ACAN
BEGIN:VEVENT
DTSTART;VALUE=DATE:20181121
DTEND;VALUE=DATE:20181123
DTSTAMP:20190227T234504
CREATED:20180911T025643Z
LAST-MODIFIED:20180911T025643Z
UID:471-1542758400-1542931199@acan.com.au
SUMMARY:Financial Sustainability in Aged Care conference
DESCRIPTION:Offering insights from industry leaders about financial sustainability and possible funding changes. It will include advice from expert researchers\, strategies from peak bodies\, tools to review investment opportunities\, ideas for innovation and skills to improve financial stability. \n
URL:http://acan.com.au/event/financial-sustainability-in-aged-care-conference/
LOCATION:Rydges World Square\, 389 Pitt Street\, Sydney\, New South Wales\, 2000\, Australia
END:VEVENT
END:VCALENDAR