BEGIN:VCALENDAR
VERSION:2.0
PRODID:-//ACAN - ECPv4.7.3//NONSGML v1.0//EN
CALSCALE:GREGORIAN
METHOD:PUBLISH
X-WR-CALNAME:ACAN
X-ORIGINAL-URL:http://acan.com.au
X-WR-CALDESC:Events for ACAN
BEGIN:VEVENT
DTSTART;VALUE=DATE:20181009
DTEND;VALUE=DATE:20181011
DTSTAMP:20190227T234652
CREATED:20180911T014116Z
LAST-MODIFIED:20180911T014228Z
UID:458-1539043200-1539215999@acan.com.au
SUMMARY:Embolden
DESCRIPTION:Embolden2018 is a Conference/Festival for service providers and older people. It draws on the World Health Organisation’s framework for an Age-friendly World to explore innovations that: challenge ageism; promote respect for older people; celebrate ageing\, and build age-friendly services and communities. \n
URL:http://acan.com.au/event/embolden/
LOCATION:St Kilda Town Hall\, Melbourne\, 99a Carlise St\, St Kilda\, Melbourne\, Victoria\, 3182\, Australia
END:VEVENT
END:VCALENDAR