BEGIN:VCALENDAR
VERSION:2.0
PRODID:-//ACAN - ECPv4.7.3//NONSGML v1.0//EN
CALSCALE:GREGORIAN
METHOD:PUBLISH
X-WR-CALNAME:ACAN
X-ORIGINAL-URL:http://acan.com.au
X-WR-CALDESC:Events for ACAN
BEGIN:VEVENT
DTSTART;TZID=UTC+0:20180927T100000
DTEND;TZID=UTC+0:20180927T160000
DTSTAMP:20190227T234644
CREATED:20180911T012438Z
LAST-MODIFIED:20180911T012438Z
UID:454-1538042400-1538064000@acan.com.au
SUMMARY:Disability\, Ageing and Lifestyle Expo
DESCRIPTION:Exploring practical ideas\, research and initiatives\, the expo aims to empower individuals\, couples and families to exercise choice and control over their needs\, services and support planning. \n
URL:http://acan.com.au/event/disability-ageing-and-lifestyle-expo/
LOCATION:Goyder Pavilion\, Adelaide Showgrounds\, 33 Goodwood Rd\, Wayville SA\, Adelaide\, South Australia\, 5034\, Australia
ORGANIZER;CN="Sakina%20Vohra":MAILTO:events@catalystfoundation.com.au
END:VEVENT
END:VCALENDAR