BEGIN:VCALENDAR
VERSION:2.0
PRODID:-//ACAN - ECPv4.7.3//NONSGML v1.0//EN
CALSCALE:GREGORIAN
METHOD:PUBLISH
X-WR-CALNAME:ACAN
X-ORIGINAL-URL:http://acan.com.au
X-WR-CALDESC:Events for ACAN
BEGIN:VEVENT
DTSTART;VALUE=DATE:20180914
DTEND;VALUE=DATE:20180916
DTSTAMP:20190227T234637
CREATED:20180911T001451Z
LAST-MODIFIED:20180911T001451Z
UID:450-1536883200-1537055999@acan.com.au
SUMMARY:Care Expo
DESCRIPTION:Australian Events has announced the inaugural CARE EXPO which is set to showcase over 100 exhibitors in the care and disability sector across the two days. Care Expo will encompass a wide range of special needs from physical\, intellectual and aged\, to everyday ailments including anxiety\, depression and PTSD. \n
URL:http://acan.com.au/event/care-expo/
LOCATION:Brisbane Convention & Exhibition Centre\, Brisbane\, Queensland\, Australia
END:VEVENT
END:VCALENDAR