BEGIN:VCALENDAR
VERSION:2.0
PRODID:-//ACAN - ECPv4.7.3//NONSGML v1.0//EN
CALSCALE:GREGORIAN
METHOD:PUBLISH
X-WR-CALNAME:ACAN
X-ORIGINAL-URL:http://acan.com.au
X-WR-CALDESC:Events for ACAN
BEGIN:VEVENT
DTSTART;TZID=UTC+0:20180816T123000
DTEND;TZID=UTC+0:20180816T150000
DTSTAMP:20190227T234630
CREATED:20180723T035141Z
LAST-MODIFIED:20180723T035141Z
UID:396-1534422600-1534431600@acan.com.au
SUMMARY:Acan Boardroom Lunch
DESCRIPTION:
URL:http://acan.com.au/event/acan-boardroom-lunch/
END:VEVENT
END:VCALENDAR